BEGIN:VCALENDAR
VERSION:2.0
PRODID:SPD Seminare
METHOD:PUBLISH
BEGIN:VEVENT
UID:732@spd-frankfurt.de
SUMMARY:Literaturkreis der SPD Frankfurt
DESCRIPTION:Der Literaturkreis beschäftigt sich derzeit mit der Lektüre des Buches von Rainer Mühlhoff: "Künstliche Intelligenz und der neue Faschismus". An diesem Abend behandeln wir:
Kapitel 5 + 6 (Kapitel 5 "Libertarismus, Dunkle Aufklärung und Alt- Right", Kapitel 6 "Der neue Faschismus" und "Was tun?").
Interessierte sind herzlich willkommen.
CLASS:PUBLIC
DTSTART:20260519T190000
DTEND: 20260519T210000
DTSTAMP: 20260420T135744Z
LOCATION:SPD-Bürgerbüro, Berger Straße 274, 60385 Frankfurt
END:VEVENT
END:VCALENDAR