BEGIN:VCALENDAR
VERSION:2.0
PRODID:SPD Seminare
METHOD:PUBLISH
BEGIN:VEVENT
UID:735@spd-frankfurt.de
SUMMARY:Solidaritätsfest für Club Voltaire
DESCRIPTION:Liebe Freundinnen und Freunde des Club Voltaires,
wir unterstützen den Aufruf des DGB Frankfurts, dem Club Voltaire in seinem Überlebenskampf zu helfen.&nbsp;
Der Club Voltaire soll an seinem angestammten Sitz in der Kleinen Hochstr. keine Verlängerung des Mietvertrages mehr erhalten. Die Eigentümer wollen das Haus verkaufen. Jetzt kämpfen unter anderem wir als Untersützer dafür, dass der Club bleibt. Im Rahmen vielfältiger Aktionen, den Club zu retten, plant der Vorstand des Club Voltaires für&nbsp;ein Solidaritätsfest im Gewerkschaftshaus.
Sei mit dabei und rette den Club Voltaire.&nbsp;
CLASS:PUBLIC
DTSTART:20260513T180000
DTEND: 20260513T220000
DTSTAMP: 20260420T135341Z
LOCATION:DGB Gewerkschaftshaus, Wilhelm-Leushcner-Strasse 69, 60329 Frankfurt
END:VEVENT
END:VCALENDAR