BEGIN:VCALENDAR
VERSION:2.0
PRODID:SPD Seminare
METHOD:PUBLISH
BEGIN:VEVENT
UID:734@spd-frankfurt.de
SUMMARY:Nordendfest auf dem Friedberger Platz
DESCRIPTION:&nbsp;Nordendfest am 09. Mai auf dem&nbsp;Friedberger Platz
Das Nordendfest der SPD Ortsvereine geht in eine neue Runde und bald ist es soweit! Die Vorbereitungen laufen auf Hochtouren.&nbsp;Am Friedberger Platz bieten wir Live-Musik und politischen Statements von SPD- Politiker*innen eine Bühne, werden Infotische von Vereinen und Initaitven aufgebaut, wird unsere bewährte "AnsprechBar"&nbsp;allen Fragen, Anregungen und Gedanken von Mitbürger*innen rund um Lokalpolitik im Nordend Rede und Antwort stehen, wird der Abenteuerspielplatz genug Action für die Kleinen bieten&nbsp;und wird es natürlich eine Möglichkeit für ein geselliges Miteinander mit Essen und Trinken geben. Seien Sie herzlich eingeladen.&nbsp;Wir freuen uns drauf!
Wir haben noch Plätze für unseren Flohmarkt (10 Euro Gebühr)! Anmeldungen unter Angabe von Name, Kontaktdaten und was verkauft wird unter: Flohmarkt-Nordendfest@gmx.de.
Sie sind eine Initiative und möchten sich mit einem Infostand präsentieren? Gerne! Nehmen Sie Kontakt mit uns auf.
CLASS:PUBLIC
DTSTART:20260509T130000
DTEND: 20260509T200000
DTSTAMP: 20260422T082916Z
LOCATION:Nordendfest, Friedberger Platz, 60316 Frankfurt
END:VEVENT
END:VCALENDAR