BEGIN:VCALENDAR
VERSION:2.0
PRODID:SPD Seminare
METHOD:PUBLISH
BEGIN:VEVENT
UID:682@spd-frankfurt.de
SUMMARY:Literaturkreis der SPD Frankfurt
DESCRIPTION:Der Literaturkreis beschäftigt sich derzeit mit der Lektüre des Buches von Rainer Mühlhoff: "Künstliche Intelligenz und der neue Faschismus". An diesem Abend behandeln wir:
Kapitel 3 + 4 (Kapitel 3 "Der KI-Hype im öffentlichen Diskurs", Kapitel 4 "Die Ideologien hinter dem KI-Hype").
Interessierte sind herzlich willkommen.
CLASS:PUBLIC
DTSTART:20260421T190000
DTEND: 20260421T210000
DTSTAMP: 20260420T125703Z
LOCATION:SPD-Bürgerbüro, Berger Straße 274, 60385 Frankfurt
END:VEVENT
END:VCALENDAR