BEGIN:VCALENDAR
VERSION:2.0
PRODID:SPD Seminare
METHOD:PUBLISH
BEGIN:VEVENT
UID:733@spd-frankfurt.de
SUMMARY:Treffen des AK Wirtschaftspolitik - W5
DESCRIPTION:Einladung zum Treffen des AK Wirtschaftspolitik - W5 am Dienstag, den 28.04.2026, 19:00 Uhr, im SPD-Bürgerhaus Berger Straße 274, Frankfurt-Bornheim
Vorgeschlagene Tagesordnung:
 	Begrüßung/Organisatorisches/Informationen 	Beratung und Verabschiedung von Anträgen zu Jahresunterbezirkskonferenz am 20. Juni 2026: 	Antrag: Steuerprüfung stärken - Koalitionsvertrag konkretisieren&nbsp; 	Antrag: Superreiche besteuern&nbsp; 	Antrag: Rechtliche Gleichstellung von Steuerhinterziehung und Sozialbetrug 	Antrag: Bürgerbeteiligung an Staatsanleihen 	Antrag: Antragsbuch 	&nbsp;Weiteres Vorgehen 	Termine 	Verschiedenes 
&nbsp;Interessierte sind herzlich willkommen.
CLASS:PUBLIC
DTSTART:20260428T190000
DTEND: 20260428T210000
DTSTAMP: 20260420T134804Z
LOCATION:SPD-Bürgerbüro, Berger Straße 274, 60385 Frankfurt
END:VEVENT
END:VCALENDAR